BEGIN:VCALENDAR
VERSION:2.0
PRODID:-//Oberkirche Arnstadt e.V. - ECPv6.15.20//NONSGML v1.0//EN
CALSCALE:GREGORIAN
METHOD:PUBLISH
X-ORIGINAL-URL:https://www.oberkirche-arnstadt.de
X-WR-CALDESC:Veranstaltungen für Oberkirche Arnstadt e.V.
REFRESH-INTERVAL;VALUE=DURATION:PT1H
X-Robots-Tag:noindex
X-PUBLISHED-TTL:PT1H
BEGIN:VTIMEZONE
TZID:Europe/Berlin
BEGIN:DAYLIGHT
TZOFFSETFROM:+0100
TZOFFSETTO:+0200
TZNAME:CEST
DTSTART:20240331T010000
END:DAYLIGHT
BEGIN:STANDARD
TZOFFSETFROM:+0200
TZOFFSETTO:+0100
TZNAME:CET
DTSTART:20241027T010000
END:STANDARD
BEGIN:DAYLIGHT
TZOFFSETFROM:+0100
TZOFFSETTO:+0200
TZNAME:CEST
DTSTART:20250330T010000
END:DAYLIGHT
BEGIN:STANDARD
TZOFFSETFROM:+0200
TZOFFSETTO:+0100
TZNAME:CET
DTSTART:20251026T010000
END:STANDARD
BEGIN:DAYLIGHT
TZOFFSETFROM:+0100
TZOFFSETTO:+0200
TZNAME:CEST
DTSTART:20260329T010000
END:DAYLIGHT
BEGIN:STANDARD
TZOFFSETFROM:+0200
TZOFFSETTO:+0100
TZNAME:CET
DTSTART:20261025T010000
END:STANDARD
END:VTIMEZONE
BEGIN:VEVENT
DTSTART;TZID=Europe/Berlin:20251129T110000
DTEND;TZID=Europe/Berlin:20251129T180000
DTSTAMP:20260423T210536
CREATED:20250408T144914Z
LAST-MODIFIED:20251111T215117Z
UID:10109-1764414000-1764439200@www.oberkirche-arnstadt.de
SUMMARY:Kunst- und Handwerkermarkt - vorweihnachtliche Stimmung in der Oberkirche
DESCRIPTION:Kunst- und Handwerkermarkt in der Oberkirche 2024\, Foto Ruth Zein \n  \nSa 29.11. 11.00-18.00 Uhr / Markt / Klostercafé / Oberkirche \nKunst­ und Handwerkermarkt\nKunsthandwerk aus der Region\,\nLivemusik am Nachmittag\,\nMärchenstunde für Kinder\nKuchen\, Glühwein und Kaffee … \n  \nSeit 2007 öffnen sich am ersten Adventswochenende die Türen der Arnstädter Oberkirche zum Kunst- und Handwerkermarkt. \nErleben Sie eingebettet in den zauberhaften Bach-Advent in der Oberkirche Arnstadt ein festliches Programm voller Höhepunkte. Stöbern Sie auf unserem Kunst- & Handwerkermarkt nach einzigartigen Angeboten. In der beeindruckenden Atmosphäre der über 700 Jahre alten Kirche finden die Besucher einen besonderen Markt und viele Inspirationen für das Weihnachtsfest. \nEs werden handgearbeitete Unikate in der Breite des kunsthandwerklichen Schaffens präsentiert und zum Kauf angeboten. Die Produktpalette reicht von edlen Schmuckkreationen aus unterschiedlichsten Materialien\, über Keramik\, Porzellan- und Filzwaren\, feinen Papierarbeiten zu Kalendern und Gemälden. \nNeben nützlichen und dekorativen Gebrauchsgegenständen gibt es modische und funktionale Accessoires und viele andere „schöne Dinge“\, die das Leben erfreuen. \nIm „Kloster-Café“ können die Besucher weihnachtliche Spezialitäten\, selbstgebackene Kuchen\, Glühwein\, Tee und Kaffee genießen\, sich der festlichen Atmosphäre der Vorweihnachtszeit ergeben und miteinander ins Plaudern kommen.  \nDen krönenden Abschluss bildet um 17.00 Uhr ein mitreißendes Konzert\, mit dem gewiss die Vorfreude auf die beginnende Adventszeit geweckt wird und das Sie nicht verpassen sollten!\n \nteilen teilen teilen E-Mail 
URL:https://www.oberkirche-arnstadt.de/veranstaltung/kunst-und-handwerkermarkt-vorweihnachtliche-stimmung-in-der-oberkirche/
LOCATION:Oberkirche Arnstadt\, Pfarrhof\, Arnstadt\, 99310\, Deutschland
CATEGORIES:Konzert,Lesung,Markt
ATTACH;FMTTYPE=image/jpeg:https://www.oberkirche-arnstadt.de/wp-content/uploads/2025/04/2025-11-29-KuH-Markt_06-scaled.jpg
ORGANIZER;CN="Oberkirche Arnstadt e. V.":MAILTO:info@oberkirche-arnstadt.de
END:VEVENT
END:VCALENDAR