BEGIN:VCALENDAR
VERSION:2.0
PRODID:-//Oberkirche Arnstadt e.V. - ECPv6.15.20//NONSGML v1.0//EN
CALSCALE:GREGORIAN
METHOD:PUBLISH
X-WR-CALNAME:Oberkirche Arnstadt e.V.
X-ORIGINAL-URL:https://www.oberkirche-arnstadt.de
X-WR-CALDESC:Veranstaltungen für Oberkirche Arnstadt e.V.
REFRESH-INTERVAL;VALUE=DURATION:PT1H
X-Robots-Tag:noindex
X-PUBLISHED-TTL:PT1H
BEGIN:VTIMEZONE
TZID:Europe/Berlin
BEGIN:DAYLIGHT
TZOFFSETFROM:+0100
TZOFFSETTO:+0200
TZNAME:CEST
DTSTART:20230326T010000
END:DAYLIGHT
BEGIN:STANDARD
TZOFFSETFROM:+0200
TZOFFSETTO:+0100
TZNAME:CET
DTSTART:20231029T010000
END:STANDARD
BEGIN:DAYLIGHT
TZOFFSETFROM:+0100
TZOFFSETTO:+0200
TZNAME:CEST
DTSTART:20240331T010000
END:DAYLIGHT
BEGIN:STANDARD
TZOFFSETFROM:+0200
TZOFFSETTO:+0100
TZNAME:CET
DTSTART:20241027T010000
END:STANDARD
BEGIN:DAYLIGHT
TZOFFSETFROM:+0100
TZOFFSETTO:+0200
TZNAME:CEST
DTSTART:20250330T010000
END:DAYLIGHT
BEGIN:STANDARD
TZOFFSETFROM:+0200
TZOFFSETTO:+0100
TZNAME:CET
DTSTART:20251026T010000
END:STANDARD
END:VTIMEZONE
BEGIN:VEVENT
DTSTART;TZID=Europe/Berlin:20240827T093000
DTEND;TZID=Europe/Berlin:20240827T103000
DTSTAMP:20260419T202437
CREATED:20240517T215359Z
LAST-MODIFIED:20240517T215911Z
UID:9642-1724751000-1724754600@www.oberkirche-arnstadt.de
SUMMARY:Figurentheater in der Oberkirche
DESCRIPTION:Christiane Weidringer – Programm für Kinder \nDi 27.08. 09.30 Uhr / Figurentheater / Oberkirche \nProgramm: Der Wind in den Weiden nach dem Kinderbuchklassiker von Keneth Grahame \nSpiel – Christiane Weidringer\nRegie – Harald Richter\nBühne – Thomas Lindner\nKörbe – Frank Birkfeld\nPuppen – Barbara und Günter Weinhold\nMusik – Andreas Kuch \nFür Zuschauer ab 3 Jahre\nGruppen mit mehr als 10 Personen bitte unter info@oberkirche-arnstadt.de anmelden. \nDauer: 40 Minuten \nEintritt: 3 € \n  \nDer Maulwurf erwacht aus seinem Winterschlaf. Frühjahrsputz? Nein! Es gibt so viele interessante Dinge zu erleben: Bootfahren mit der Wasserratte\, Picknick am Fluss\, Abenteuer mit dem Kröterich… doch aus Übermut läuft alles aus dem Ruder. Durch einen Unfall wird die Freundschaft der drei Tiere auf eine harte Probe gestellt\, aber am Ende sitzen sie versöhnt bei einem gemeinsamen Picknick zusammen. \nDie Bühne ist eine hohle Weide. Auf zwei Spielebenen erleben wir die drei Tierfiguren in nah und fern\, ein wandelbarer Picknickkorb bildet das wesentliche Spielobjekt für diese ergreifende Geschichte von Verbundenheit mit der Natur\, von Fernweh\, Eigensinn und von tiefer Freundschaft. \nteilen teilen teilen E-Mail 
URL:https://www.oberkirche-arnstadt.de/veranstaltung/figurentheater-in-der-oberkirche-2/
LOCATION:Oberkirche Arnstadt\, Pfarrhof\, Arnstadt\, 99310\, Deutschland
CATEGORIES:Puppenspiel,Theater
ATTACH;FMTTYPE=image/jpeg:https://www.oberkirche-arnstadt.de/wp-content/uploads/2024/05/Der-Wind-in-den-Weiden-Figurenskizzen-von-Baerbel-Weinhold.jpg
ORGANIZER;CN="Oberkirche Arnstadt e. V.":MAILTO:info@oberkirche-arnstadt.de
END:VEVENT
BEGIN:VEVENT
DTSTART;TZID=Europe/Berlin:20240828T093000
DTEND;TZID=Europe/Berlin:20240828T103000
DTSTAMP:20260419T202437
CREATED:20240517T215734Z
LAST-MODIFIED:20240517T215734Z
UID:9646-1724837400-1724841000@www.oberkirche-arnstadt.de
SUMMARY:Figurentheater in der Oberkirche
DESCRIPTION:Christiane Weidringer – Programm für Kinder \nMi 28.08. 09.30 Uhr / Figurentheater / Oberkirche \nProgramm: Der Wind in den Weiden nach dem Kinderbuchklassiker von Keneth Grahame \nSpiel – Christiane Weidringer\nRegie – Harald Richter\nBühne – Thomas Lindner\nKörbe – Frank Birkfeld\nPuppen – Barbara und Günter Weinhold\nMusik – Andreas Kuch \nFür Zuschauer ab 3 Jahre\nGruppen mit mehr als 10 Personen bitte unter info@oberkirche-arnstadt.de anmelden. \nDauer: 40 Minuten \nEintritt: 3 € \n  \nDer Maulwurf erwacht aus seinem Winterschlaf. Frühjahrsputz? Nein! Es gibt so viele interessante Dinge zu erleben: Bootfahren mit der Wasserratte\, Picknick am Fluss\, Abenteuer mit dem Kröterich… doch aus Übermut läuft alles aus dem Ruder. Durch einen Unfall wird die Freundschaft der drei Tiere auf eine harte Probe gestellt\, aber am Ende sitzen sie versöhnt bei einem gemeinsamen Picknick zusammen. \nDie Bühne ist eine hohle Weide. Auf zwei Spielebenen erleben wir die drei Tierfiguren in nah und fern\, ein wandelbarer Picknickkorb bildet das wesentliche Spielobjekt für diese ergreifende Geschichte von Verbundenheit mit der Natur\, von Fernweh\, Eigensinn und von tiefer Freundschaft. \nteilen teilen teilen E-Mail 
URL:https://www.oberkirche-arnstadt.de/veranstaltung/figurentheater-in-der-oberkirche-3/
LOCATION:Oberkirche Arnstadt\, Pfarrhof\, Arnstadt\, 99310\, Deutschland
CATEGORIES:Puppenspiel,Theater
ATTACH;FMTTYPE=image/jpeg:https://www.oberkirche-arnstadt.de/wp-content/uploads/2024/05/Der-Wind-in-den-Weiden-Figurenskizzen-von-Baerbel-Weinhold.jpg
ORGANIZER;CN="Oberkirche Arnstadt e. V.":MAILTO:info@oberkirche-arnstadt.de
END:VEVENT
END:VCALENDAR